BEGIN:VCALENDAR
VERSION:2.0
PRODID:-//Scorpio Books - ECPv6.15.17.1//NONSGML v1.0//EN
CALSCALE:GREGORIAN
METHOD:PUBLISH
X-WR-CALNAME:Scorpio Books
X-ORIGINAL-URL:https://scorpiobooks.co.nz
X-WR-CALDESC:Events for Scorpio Books
REFRESH-INTERVAL;VALUE=DURATION:PT1H
X-Robots-Tag:noindex
X-PUBLISHED-TTL:PT1H
BEGIN:VTIMEZONE
TZID:Pacific/Auckland
BEGIN:STANDARD
TZOFFSETFROM:+1300
TZOFFSETTO:+1200
TZNAME:NZST
DTSTART:20220402T140000
END:STANDARD
BEGIN:DAYLIGHT
TZOFFSETFROM:+1200
TZOFFSETTO:+1300
TZNAME:NZDT
DTSTART:20220924T140000
END:DAYLIGHT
BEGIN:STANDARD
TZOFFSETFROM:+1300
TZOFFSETTO:+1200
TZNAME:NZST
DTSTART:20230401T140000
END:STANDARD
BEGIN:DAYLIGHT
TZOFFSETFROM:+1200
TZOFFSETTO:+1300
TZNAME:NZDT
DTSTART:20230923T140000
END:DAYLIGHT
BEGIN:STANDARD
TZOFFSETFROM:+1300
TZOFFSETTO:+1200
TZNAME:NZST
DTSTART:20240406T140000
END:STANDARD
BEGIN:DAYLIGHT
TZOFFSETFROM:+1200
TZOFFSETTO:+1300
TZNAME:NZDT
DTSTART:20240928T140000
END:DAYLIGHT
END:VTIMEZONE
BEGIN:VEVENT
DTSTART;TZID=Pacific/Auckland:20230831T180000
DTEND;TZID=Pacific/Auckland:20230831T190000
DTSTAMP:20260420T143128
CREATED:20230706T004145Z
LAST-MODIFIED:20230706T004145Z
UID:10000021-1693504800-1693508400@scorpiobooks.co.nz
SUMMARY:Mead & Read
DESCRIPTION:Colony is proud to be partnering with Scorpio Books to bring together two of our favourite things – a great mead with a great book! \nEach month at Mead & Read\, Scorpio will introduce three new books that we think our customers might enjoy\, and we will provide tastes of matching meads and liqueurs*. \nHeld on the last Thursday of the month\, starting June 2023. Registration is essential – register here. \n(There is no charge for this event but we ask that you consider purchasing something on the evening.) \n  \n*Mead & liqueur tastings available to customers over 18 years old.
URL:https://scorpiobooks.co.nz/event/mead-read-2/2023-08-31/
LOCATION:Colony Christchurch\, The Crossing\, 166 Cashel St\, Christchurch\, New Zealand
CATEGORIES:Off-site
ATTACH;FMTTYPE=image/jpeg:https://scorpiobooks.co.nz/wp-content/uploads/2023/05/Website-Banner-Mead-Read.jpg
END:VEVENT
BEGIN:VEVENT
DTSTART;TZID=Pacific/Auckland:20230727T180000
DTEND;TZID=Pacific/Auckland:20230727T190000
DTSTAMP:20260420T143128
CREATED:20230706T004145Z
LAST-MODIFIED:20230706T004145Z
UID:10000020-1690480800-1690484400@scorpiobooks.co.nz
SUMMARY:Mead & Read
DESCRIPTION:Colony is proud to be partnering with Scorpio Books to bring together two of our favourite things – a great mead with a great book! \nEach month at Mead & Read\, Scorpio will introduce three new books that we think our customers might enjoy\, and we will provide tastes of matching meads and liqueurs*. \nHeld on the last Thursday of the month\, starting June 2023. Registration is essential – register here. \n(There is no charge for this event but we ask that you consider purchasing something on the evening.) \n  \n*Mead & liqueur tastings available to customers over 18 years old.
URL:https://scorpiobooks.co.nz/event/mead-read-2/2023-07-27/
LOCATION:Colony Christchurch\, The Crossing\, 166 Cashel St\, Christchurch\, New Zealand
CATEGORIES:Off-site
ATTACH;FMTTYPE=image/jpeg:https://scorpiobooks.co.nz/wp-content/uploads/2023/05/Website-Banner-Mead-Read.jpg
END:VEVENT
BEGIN:VEVENT
DTSTART;TZID=Pacific/Auckland:20230629T180000
DTEND;TZID=Pacific/Auckland:20230629T190000
DTSTAMP:20260420T143128
CREATED:20230521T234050Z
LAST-MODIFIED:20230521T235855Z
UID:10000013-1688061600-1688065200@scorpiobooks.co.nz
SUMMARY:Mead & Read
DESCRIPTION:Colony is proud to be partnering with Scorpio Books to bring together two of our favourite things – a great mead with a great book! \nEach month at Mead & Read\, Scorpio will introduce three new books that we think our customers might enjoy\, and we will provide tastes of matching meads and liqueurs*. \nHeld on the last Thursday of the month\, starting June 2023. Registration is essential – register here. \n(There is no charge for this event but we ask that you consider purchasing something on the evening.) \n  \n*Mead & liqueur tastings available to customers over 18 years old.
URL:https://scorpiobooks.co.nz/event/mead-read/
LOCATION:Colony Christchurch\, The Crossing\, 166 Cashel St\, Christchurch\, New Zealand
CATEGORIES:Off-site
ATTACH;FMTTYPE=image/jpeg:https://scorpiobooks.co.nz/wp-content/uploads/2023/05/Website-Banner-Mead-Read.jpg
END:VEVENT
END:VCALENDAR